BEGIN:VCALENDAR
VERSION:2.0
PRODID:-//eventon.com NONSGML v1.0//EN
BEGIN:VEVENT
UID:69ecacb08bc77
DTSTAMP:20260425T065944
DTSTART:20260530T200000Z
DTEND:20260531T010000Z
TZID:America/New_York
LOCATION:
SUMMARY:Curt Davis at Coal Ridge Brewery
DESCRIPTION: Enjoy fun\,  food\,  and great beer at Coal Ridge Brewery. Smoke Lords BBQ from 4:00 to 8:30 p.m. and Curt Davis from 6:00 to 9:00 p.m. &nbsp; &nbsp;
URL:https://visitshenandoah.org/events/curt-davis-at-coal-ridge-brewery/
END:VEVENT
END:VCALENDAR