BEGIN:VCALENDAR
VERSION:2.0
PRODID:-//eventon.com NONSGML v1.0//EN
BEGIN:VEVENT
UID:69ece1928b719
DTSTAMP:20260425T104522
DTSTART:20260523T180000Z
DTEND:20260524T010000Z
TZID:America/New_York
LOCATION:
SUMMARY:Tim Leeth from LSL at Coal Ridge Brewery
DESCRIPTION: Enjoy fun\,  food\,  and great beer at Coal Ridge Brewery.  FLOCS & Beyond from 2:00 to 8:30 p.m. and Tim Leeth from 6:00 to 9:00 p.m. &nbsp; &nbsp;
URL:https://visitshenandoah.org/events/tim-leeth-from-lsl-at-coal-ridge-brewery/
END:VEVENT
END:VCALENDAR