BEGIN:VCALENDAR
VERSION:2.0
PRODID:-//eventon.com NONSGML v1.0//EN
BEGIN:VEVENT
UID:69ecc4be357ba
DTSTAMP:20260425T084222
DTSTART:20260517T170000Z
DTEND:20260518T000000Z
TZID:America/New_York
LOCATION:
SUMMARY:Cousins Maine Lobster at Coal Ridge Brewery
DESCRIPTION: Enjoy fun\,  food\,  and great beer at Coal Ridge Brewery.  Cousins Maine Lobster from 1 to 8:00 p.m. &nbsp; &nbsp;
URL:https://visitshenandoah.org/events/counsins-maine-lobster-at-coal-ridge-brewery/
END:VEVENT
END:VCALENDAR