BEGIN:VCALENDAR
VERSION:2.0
PRODID:-//eventon.com NONSGML v1.0//EN
BEGIN:VEVENT
UID:69ecacea45da9
DTSTAMP:20260425T070042
DTSTART:20260515T200000Z
DTEND:20260516T013000Z
TZID:America/New_York
LOCATION:
SUMMARY:Brewery Karaoke at Coal Ridge Brewery
DESCRIPTION: Enjoy fun\,  food\,  and great beer at Coal Ridge Brewery.  Starv&#8217;n Marvin from 4 to 8:30 p.m. and Karaoke from 5:30 to 9:30 p.m. &nbsp; &nbsp;
URL:https://visitshenandoah.org/events/brewery-karaoke-at-coal-ridge-brewery-2/
END:VEVENT
END:VCALENDAR