BEGIN:VCALENDAR
VERSION:2.0
PRODID:-//eventon.com NONSGML v1.0//EN
BEGIN:VEVENT
UID:69ecac9d2750d
DTSTAMP:20260425T065925
DTSTART:20260509T220000Z
DTEND:20260510T010000Z
TZID:America/New_York
LOCATION:
SUMMARY:Tucker Wyatt at Coal Ridge Brewery
DESCRIPTION: Enjoy fun and great beer at Coal Ridge Brewery.  Tucker Wyatt performing from 6:00 to 9:00 p.m. &nbsp; &nbsp;
URL:https://visitshenandoah.org/events/tucker-wyatt-at-coal-ridge-brewery/
END:VEVENT
END:VCALENDAR