BEGIN:VCALENDAR
VERSION:2.0
PRODID:-//eventon.com NONSGML v1.0//EN
BEGIN:VEVENT
UID:69e64dc8d10ff
DTSTAMP:20260420T110112
DTSTART:20260807T210000Z
DTEND:20260809T010000Z
TZID:America/New_York
LOCATION:Skyland mile 41.7 on Skyline Drive
SUMMARY:Basic City Beer Tap Takeover at Skyland
DESCRIPTION: Shenandoah National Park &#8212; Skyland (mile 41.7 on Skyline Drive) Join us at Skyland in Shenandoah National Park on August 7 & 8 as Basic City Brewery will be taking over the Taps from 5:00 to 9:00 p.m. We will have live music from 7:30 a.m. to 9:00 p.m. on[..]
URL:https://visitshenandoah.org/events/basic-city-beer-tap-takeover-at-skyland-4/
END:VEVENT
END:VCALENDAR