BEGIN:VCALENDAR
VERSION:2.0
PRODID:-//eventon.com NONSGML v1.0//EN
BEGIN:VEVENT
UID:69e8c05333d2f
DTSTAMP:20260422T073427
DTSTART:20261106T010000Z
DTEND:20261106T040000Z
TZID:America/New_York
LOCATION:
SUMMARY:Let's Talk About Space at Skyland
DESCRIPTION: Join NASA JPL Solar System Ambassador Greg Redfern for engaging presentations about outer space! &#8220;Under the Stars at Shenandoah National Park&#8221; &#8211; If the sky is clear after the presentation\,  guests will move outdoors to see the night sky in all its glory while listening to sky lore and fascinating sky[..]
URL:https://visitshenandoah.org/events/lets-talk-about-space-at-skyland-10/
END:VEVENT
END:VCALENDAR