BEGIN:VCALENDAR
VERSION:2.0
PRODID:-//eventon.com NONSGML v1.0//EN
BEGIN:VEVENT
UID:69e767d881793
DTSTAMP:20260421T070440
DTSTART:20250621T180000Z
DTEND:20250621T210000Z
TZID:America/New_York
LOCATION:
SUMMARY:Tucker Wyatt at Wolf Gap Vineyard
DESCRIPTION: Experience the soulful sounds of Tucker Wyatt\,  a rising star in the indie country and outlaw Americana scenes. Tucker’s music is a heartfelt blend of raw storytelling and evocative melodies\,  inspired by the Chesapeake Bay and the rich traditions of the American South. With his band\,  the Mothertuckers\,  he delivers[..]
URL:https://visitshenandoah.org/events/tucker-wyatt-at-wolf-gap-vineyard/
END:VEVENT
END:VCALENDAR