BEGIN:VCALENDAR
VERSION:2.0
PRODID:-//eventon.com NONSGML v1.0//EN
BEGIN:VEVENT
UID:69e7770639c8a
DTSTAMP:20260421T080926
DTSTART:20250313T140000Z
DTEND:20251231T210000Z
TZID:America/New_York
LOCATION:Museum of the Shenandoah Valley 9 Amherst St. 
SUMMARY:Contributions: African Americans in the Shenandoah Valley
DESCRIPTION: African Americans have contributed to the shaping of the Shenandoah Valley for more than 300 years and their influence can be found throughout the MSV Collection. With art\,  objects\,  and documents\,  Contributions tells the stories of those who endured enslavement\,  resisted oppression\,  and achieved success. Nearly 40 significant African Americans in the[..]
URL:https://visitshenandoah.org/events/contributions-african-americans-in-the-shenandoah-valley-11/
END:VEVENT
END:VCALENDAR