BEGIN:VCALENDAR
VERSION:2.0
PRODID:-//eventon.com NONSGML v1.0//EN
BEGIN:VEVENT
UID:69eb43397414d
DTSTAMP:20260424T051729
DTSTART:20260502T130000Z
DTEND:20260503T200000Z
TZID:America/New_York
LOCATION:
SUMMARY:Wildflower Weekend in Shenandoah National Park
DESCRIPTION: Spring wildflowers are at the heart of Shenandoah National Park&#8217;s 40th annual Wildflower Weekend\,  May 2-3\,  2026. Guided hikes and programs will focus on the diversity and importance of not only hundreds of species of flowering plants that are protected by the park\,  but other seasonal changes as well. Guided[..]
URL:https://visitshenandoah.org/events/wildflower-weekend-in-shenandoah-national-park/
END:VEVENT
END:VCALENDAR