BEGIN:VCALENDAR
VERSION:2.0
PRODID:-//eventon.com NONSGML v1.0//EN
BEGIN:VEVENT
UID:69e64fc1976e7
DTSTAMP:20260420T110937
DTSTART:20260509T003000Z
DTEND:20260509T030000Z
TZID:America/New_York
LOCATION:Shenandoah National Park Skyline Dr Mile 41.7 Shenandoah National Park\,  VA 22835
SUMMARY:Night Skies in Shenandoah National Park
DESCRIPTION: Big Meadows Area (mile 51 on Skyline Drive) National Parks are becoming a refuge for people from city light pollution.  Join Amateur astronomers as they present a provocative presentation on controlling light pollution while they point out the heavenly stars. Topic: Venus\,  Jupiter Free to all park visitors. Telescopes provided\, [..]
URL:https://visitshenandoah.org/events/night-skies-in-shenandoah-national-park-34/
END:VEVENT
END:VCALENDAR