BEGIN:VCALENDAR
VERSION:2.0
PRODID:-//eventon.com NONSGML v1.0//EN
BEGIN:VEVENT
UID:69e6200e1050e
DTSTAMP:20260420T074606
DTSTART:20220729T120000Z
DTEND:20220731T190000Z
TZID:America/New_York
LOCATION:
SUMMARY:Shenandoah Valley Steam & Gas Engine Association Show
DESCRIPTION: This yearly show provides attendees with the ability to get up close and personal with all of these steam and gas engines. Learn from experienced owners how they work and see them in action. Watch the parade\,  tractor pull\,  kiddie pedal car pulls and horse pulls. Flea markets\,  live music[..]
URL:https://visitshenandoah.org/events/shenandoah-valley-steam-and-gas-engine/
END:VEVENT
END:VCALENDAR