BEGIN:VCALENDAR
VERSION:2.0
PRODID:-//eventon.com NONSGML v1.0//EN
BEGIN:VEVENT
UID:69eb2d7fe3531
DTSTAMP:20260424T034447
DTSTART:20260614T030000Z
DTEND:20260614T040000Z
TZID:Pacific/Midway
LOCATION:Big Meadows Lodge mile 51 on Skyline Drive
SUMMARY:A Walk for Sunshine in Shenandoah National Park
DESCRIPTION: Shenandoah National Park &#8212; Big Meadows Lodge (mile 51 on Skyline Drive) Jeff Alt\,  a talented speaker and award-winning author of A Walk for Sunshine\,  enjoys sharing his 2\, 160-mile Appalachian Trail adventures with Shenandoah National Park visitors. Free. Jeff uses humor and adventure in a story telling format. His presentations involve[..]
URL:https://visitshenandoah.org/events/a-walk-for-sunshine-in-shenandoah-national-park/
END:VEVENT
END:VCALENDAR