BEGIN:VCALENDAR
VERSION:2.0
PRODID:-//eventon.com NONSGML v1.0//EN
BEGIN:VEVENT
UID:69e74d1e7100c
DTSTAMP:20260421T051038
DTSTART:20210627T005000Z
DTEND:20210627T025000Z
TZID:America/New_York
LOCATION:New Market Community Center 9670 Cadet Rd
SUMMARY:Movie Nights in the Park Featuring "Grease"
DESCRIPTION: New Market Community Park Watching a movie under the stars with friends and family is a lot of fun! And guess what?! IT IS FREE! Our second film of the summer is the throw back musical classic\,  GREASE (PG). All movie nights are hosted in the New Market Community Park[..]
URL:https://visitshenandoah.org/events/movie-nights-in-the-park-featuring-grease/
END:VEVENT
END:VCALENDAR