BEGIN:VCALENDAR
VERSION:2.0
PRODID:-//eventon.com NONSGML v1.0//EN
BEGIN:VEVENT
UID:69e9f9dccc4c8
DTSTAMP:20260423T055212
DTSTART:20260508T200000Z
DTEND:20260509T030000Z
TZID:Pacific/Midway
LOCATION:Big Meadows Lodge mile 51 on Skyline Drive
SUMMARY:Basic Outdoor Survival Skills in Shenandoah National Park
DESCRIPTION: Shenandoah National Park &#8211; Big Meadows Lodge (mile 51 on Skyline Drive) Learn what to do when the “what ifs” of your outdoor adventures turn into the “now whats”. This course will teach you the best items to take on any outdoor adventure and how to best use them in[..]
URL:https://visitshenandoah.org/events/basic-outdoor-survival-skills-4/
END:VEVENT
END:VCALENDAR